BEGIN:VCALENDAR
VERSION:2.0
PRODID:-//EL LICEO DE OURENSE - ECPv4.6.19//NONSGML v1.0//EN
CALSCALE:GREGORIAN
METHOD:PUBLISH
X-WR-CALNAME:EL LICEO DE OURENSE
X-ORIGINAL-URL:https://www.liceodeourense.com/2.0
X-WR-CALDESC:Events for EL LICEO DE OURENSE
BEGIN:VEVENT
DTSTART;TZID=UTC+1:20260501T210000
DTEND;TZID=UTC+1:20260501T223000
DTSTAMP:20260422T162244
CREATED:20260421T170553Z
LAST-MODIFIED:20260421T174155Z
UID:18358-1777669200-1777674600@www.liceodeourense.com
SUMMARY:MITEU: Los muchachos olvidados de Dios
DESCRIPTION:\n\nGRUPO:\nASOCIACIÓN ANAQUERONTE PERÚ\nESPECTÁCULO: Los muchachos olvidados de Dios\nAUTORA:Javier Valencia Palomino\nLUGAR: SALA DE TERTULIA\nHORA: 21’00\nDURACIÓN: 85 minutos\nTARIFA: 5€\nLos muchachos olvidados de Dios\, está inspirada nos testemuños do conflito interno do Perú\, das décadas de 1980 a 2000\, onde se contan as historias de varios deles que quedaron no medio das forzas da orde (policías\, militares e grupos paramilitares) por unha banda e dos grupos terroristas polo outro.\nTócanse estes casos esquecidos\, ocultados e que aínda moitos non tiveron xustiza nin do Estado peruano\, nin tampouco ecos dos seus reclamos\, e por iso outorgámoslles voz e sentimentos\, a través dunha creación dramatúrxica chea de metáforas poéticas e corporais. É unha obra que transforma a memoria nun acto poético. Os intérpretes non representan\, senón que presentan esas historias\, transitándoas cos seus corpos\, danzas\, voces e as súas emocións.\nO escenario convértese así nun ritual de sanación e resistencia\, onde a arte devolve dignidade a aquelas persoas que foron silenciadas pola historia.\nDIRECCIÓN: JAVIER VALENCIA PALOMINO\nELENCO: Manuel Guerrero Suero / Lady Galloso Vasquez\n\n
URL:https://www.liceodeourense.com/2.0/?tribe_events=miteu-los-muchachos-olvidados-de-dios
CATEGORIES:TEATRO
ATTACH;FMTTYPE=image/jpeg:https://www.liceodeourense.com/2.0/wp-content/uploads/OIP.jpg
END:VEVENT
END:VCALENDAR