BEGIN:VCALENDAR
VERSION:2.0
PRODID:-//EL LICEO DE OURENSE - ECPv4.6.19//NONSGML v1.0//EN
CALSCALE:GREGORIAN
METHOD:PUBLISH
X-WR-CALNAME:EL LICEO DE OURENSE
X-ORIGINAL-URL:https://www.liceodeourense.com/2.0
X-WR-CALDESC:Events for EL LICEO DE OURENSE
BEGIN:VEVENT
DTSTART;TZID=UTC+1:20260426T203000
DTEND;TZID=UTC+1:20260426T220000
DTSTAMP:20260422T143037
CREATED:20260421T170108Z
LAST-MODIFIED:20260421T174043Z
UID:18351-1777235400-1777240800@www.liceodeourense.com
SUMMARY:MITEU: Do marabilloso mundo dos animais\, os cordeiros
DESCRIPTION:\n\nGRUPO:\nCOMPAÑÍA DE TEATRO DA USC – LUGO GALICIA\nESPECTÁCULO: Do marabilloso mundo dos animais\, os cordeiros\nAUTORÍA: Daniel Veronese\nLUGAR: SALA DE TERTULIA\nHORA: 20’30\nDURACIÓN: 60 minutos\nTARIFA: 3€\n1992\, Arxentina.\nTeatro da desintegración.\nUnha casa que é reflexo dun microcosmos social\, 11 intérpretes en escena desintegran unha familia\, peza por peza\, para descubrir o absurdo\, o sinistro\, o non dito\, o animal detrás das relacións humanas. Unha composición do descomposto.\n«O teatro de Veronese (…) transforma a violencia das relacións humanas nunha poesía da violencia.” (Pavlovsky)\nDIRECCIÓN: STEPHANIE CUBIDES E ROCIO LEÓN\nELENCO:Fuco Cernadas\, Anne Rodríguez\, Helena Sánchez\, Iria Núñez\, Irene Uriarte\, Jim Díaz\, Sandra López\, Sabela Álvarez\, Josin Ayán\, Lucía Mondragón\nIluminaciÓn\, e tÉcnicos en xira: ASASONLU\nEscenografÍa: Stephanie Cubides\nVestiario e complementos: INPE – Inés Penelas\nCartel e programa: Daniela Blanco – Stephanie Cubides\nEspazo sonoro: Stephanie Cubides\, Rocío Arias\, Canción ‘Diferente’: Gotan Project\nDirecciÓn de partituras FÍsicas: Rocio\n\n
URL:https://www.liceodeourense.com/2.0/?tribe_events=miteu-do-marabilloso-mundo-dos-animais-os-cordeiros
CATEGORIES:TEATRO
ATTACH;FMTTYPE=image/jpeg:https://www.liceodeourense.com/2.0/wp-content/uploads/OIP.jpg
END:VEVENT
END:VCALENDAR